BEGIN:VCALENDAR
VERSION:2.0
PRODID:-//Devpost\, Inc.//UCI Design-a-thon 2026//EN
CALSCALE:GREGORIAN
BEGIN:VTIMEZONE
TZID:America/Los_Angeles
BEGIN:DAYLIGHT
DTSTART:20260308T030000
TZOFFSETFROM:-0800
TZOFFSETTO:-0700
RRULE:FREQ=YEARLY;BYDAY=2SU;BYMONTH=3
TZNAME:PDT
END:DAYLIGHT
BEGIN:STANDARD
DTSTART:20261101T010000
TZOFFSETFROM:-0700
TZOFFSETTO:-0800
RRULE:FREQ=YEARLY;BYDAY=1SU;BYMONTH=11
TZNAME:PST
END:STANDARD
END:VTIMEZONE
BEGIN:VEVENT
DTSTAMP:20260423T091125Z
UID:b45ae4e2-4592-46a5-8eba-a2ecd6d790c0
DTSTART;TZID=America/Los_Angeles:20260426T080000
DTEND;TZID=America/Los_Angeles:20260426T080000
DESCRIPTION:https://ucidesignathon26.devpost.com/
SUMMARY:UCI Design-a-thon 2026 submission deadline
BEGIN:VALARM
ACTION:DISPLAY
TRIGGER:-P7D
SUMMARY:Just 7 left days until the submission deadline!
END:VALARM
END:VEVENT
END:VCALENDAR
